BEGIN:VCALENDAR
VERSION:2.0
PRODID:-//AdmissionDroit//Calendrier CRFPA 2026//FR
CALSCALE:GREGORIAN
METHOD:PUBLISH
X-WR-CALNAME:CRFPA 2026 - AdmissionDroit
X-WR-TIMEZONE:Europe/Paris
BEGIN:VEVENT
DTSTART;VALUE=DATE:20250901
DTEND;VALUE=DATE:20251001
SUMMARY:📋 Inscription IEJ - Ouverture
DESCRIPTION:Les inscriptions IEJ ouvrent en septembre. Prépare tes pièces : certificat de scolarité/diplôme M1, carte d'identité, photo, justificatif de domicile.\n\nPlus d'infos : https://admissiondroit.fr/outils/calendrier-crfpa/
STATUS:CONFIRMED
UID:crfpa2026-iej-ouverture@admissiondroit.fr
END:VEVENT
BEGIN:VEVENT
DTSTART;VALUE=DATE:20251201
DTEND;VALUE=DATE:20251202
SUMMARY:⚠️ Inscription IEJ - Date limite approche
DESCRIPTION:Dernières semaines pour t'inscrire à l'IEJ. Vérifie la date exacte de clôture auprès de ton université. Dossiers incomplets = refusés.\n\nPlus d'infos : https://admissiondroit.fr/outils/calendrier-crfpa/
STATUS:CONFIRMED
UID:crfpa2026-iej-deadline@admissiondroit.fr
END:VEVENT
BEGIN:VEVENT
DTSTART;VALUE=DATE:20260101
DTEND;VALUE=DATE:20260102
SUMMARY:🚀 Début des révisions CRFPA
DESCRIPTION:C'est parti pour 8 mois de préparation. Commence par les fiches de cours en obligations + ta spécialité. Objectif : 1 galop d'essai/semaine.\n\nPlanning complet : https://admissiondroit.fr/outils/calendrier-crfpa/
STATUS:CONFIRMED
UID:crfpa2026-revisions-start@admissiondroit.fr
END:VEVENT
BEGIN:VEVENT
DTSTART;VALUE=DATE:20260501
DTEND;VALUE=DATE:20260502
SUMMARY:📝 Inscription CRFPA - Ouverture
DESCRIPTION:L'inscription à l'examen CRFPA ouvre en mai. Tu dois confirmer ton choix de spécialité et de procédure — ce choix est DÉFINITIF.\n\nPlus d'infos : https://admissiondroit.fr/outils/calendrier-crfpa/
STATUS:CONFIRMED
UID:crfpa2026-inscription-ouverture@admissiondroit.fr
END:VEVENT
BEGIN:VEVENT
DTSTART;VALUE=DATE:20260615
DTEND;VALUE=DATE:20260616
SUMMARY:⚠️ Inscription CRFPA - Clôture imminente
DESCRIPTION:Date limite d'inscription au CRFPA approche (varie selon les IEJ). Vérifie que ton dossier est complet. Aucune modification possible après clôture.\n\nPlus d'infos : https://admissiondroit.fr/outils/calendrier-crfpa/
STATUS:CONFIRMED
UID:crfpa2026-inscription-deadline@admissiondroit.fr
END:VEVENT
BEGIN:VEVENT
DTSTART;VALUE=DATE:20260901
DTEND;VALUE=DATE:20260904
SUMMARY:🔴 ÉCRITS CRFPA — Jour 1 à 3
DESCRIPTION:Jour 1 (1er sept.) : Note de synthèse (5h, coeff. 3)\nJour 2 (2 sept.) : Obligations (3h, coeff. 2) + Procédure (2h, coeff. 2)\nJour 3 (3 sept.) : Spécialité (3h, coeff. 2)\n\nMoyenne minimum : 10/20 pour être admissible.\n\nPlus d'infos : https://admissiondroit.fr/outils/calendrier-crfpa/
STATUS:CONFIRMED
UID:crfpa2026-ecrits@admissiondroit.fr
END:VEVENT
BEGIN:VEVENT
DTSTART;VALUE=DATE:20261015
DTEND;VALUE=DATE:20261016
SUMMARY:📊 Résultats admissibilité CRFPA
DESCRIPTION:Les résultats d'admissibilité sont publiés par chaque IEJ entre mi-octobre et fin octobre. Environ 50-55% des candidats sont admissibles.\n\nPlus d'infos : https://admissiondroit.fr/outils/calendrier-crfpa/
STATUS:CONFIRMED
UID:crfpa2026-admissibilite@admissiondroit.fr
END:VEVENT
BEGIN:VEVENT
DTSTART;VALUE=DATE:20261101
DTEND;VALUE=DATE:20261201
SUMMARY:🎤 Oraux CRFPA (Grand Oral + Anglais)
DESCRIPTION:Grand Oral (coeff. 4) : 1h de préparation, 15 min d'exposé, 30 min d'échange.\nAnglais juridique (coeff. 1) : 15 min de préparation + 15 min d'échange.\n\nPlus d'infos : https://admissiondroit.fr/outils/calendrier-crfpa/
STATUS:CONFIRMED
UID:crfpa2026-oraux@admissiondroit.fr
END:VEVENT
BEGIN:VEVENT
DTSTART;VALUE=DATE:20261220
DTEND;VALUE=DATE:20261221
SUMMARY:🎉 Résultats définitifs CRFPA
DESCRIPTION:Résultats entre fin décembre et début janvier. Moyenne générale de 10/20 requise (écrits + oraux). Taux de réussite : 25-35% selon les IEJ.\n\nPlus d'infos : https://admissiondroit.fr/outils/calendrier-crfpa/
STATUS:CONFIRMED
UID:crfpa2026-resultats@admissiondroit.fr
END:VEVENT
BEGIN:VEVENT
DTSTART;VALUE=DATE:20270111
DTEND;VALUE=DATE:20270112
SUMMARY:🎓 Entrée en école d'avocats (EDA/EFB)
DESCRIPTION:Début de la formation de 18 mois : cours théoriques, stages en cabinet et juridiction, puis CAPA et prestation de serment.\n\nPlus d'infos : https://admissiondroit.fr/outils/calendrier-crfpa/
STATUS:CONFIRMED
UID:crfpa2026-eda@admissiondroit.fr
END:VEVENT
END:VCALENDAR
